BEGIN:VCALENDAR
VERSION:2.0
PRODID:-//wp-events-plugin.com//7.2.3.1//EN
TZID:Europe/Berlin
X-WR-TIMEZONE:Europe/Berlin
BEGIN:VEVENT
UID:11@wir-fuer-beierstedt.de
DTSTART:20250823T170000Z
DTEND:20250823T234500Z
DTSTAMP:20250810T091916Z
URL:https://wir-fuer-beierstedt.de/events/sommerfest-2025-10-jahre-wir-fue
 r-beierstedt/
SUMMARY:Sommerfest 2025 - 10 Jahre Wir für Beierstedt
DESCRIPTION:10 Jahre Jubiläum des Vereins - das Event des Jahres!\n\nBierw
 agen\, Cocktailbar\, DJ und eine gute Verpflegung! Im Zelt\, im und am Spo
 rtheim an der Hautpstraße!\n\nDazu laden wir unsere Mitglieder\, unsere F
 reunde und natürlich die Beierstedterinnen und Beierstedter herzlich ein!
 \n\n&nbsp\;
ATTACH;FMTTYPE=image/jpeg:https://wir-fuer-beierstedt.de/wp-content/upload
 s/2025/08/Flyer-Sommerfest.jpg
LOCATION:Sportplatz Beierstedt\, Hauptstraße 20\, Beierstedt\, Niedersachs
 en\, 38382\, Deutschland
X-APPLE-STRUCTURED-LOCATION;VALUE=URI;X-ADDRESS=Hauptstraße 20\, Beiersted
 t\, Niedersachsen\, 38382\, Deutschland;X-APPLE-RADIUS=100;X-TITLE=Sportpl
 atz Beierstedt:geo:0,0
END:VEVENT
END:VCALENDAR